BEGIN:VCALENDAR
VERSION:2.0
PRODID:-//hacksw/handcal//NONSGML v1.0//EN
BEGIN:VEVENT
UID:14585
DTSTART;VALUE=DATE:20210910
URL;VALUE=URI:ohschonhell.at/?page_id=32779
SUMMARY:MERKWÜRDIG | OPENAIR
LOCATION:PORTO POLLO
END:VEVENT
END:VCALENDAR


