BEGIN:VCALENDAR
VERSION:2.0
PRODID:-//hacksw/handcal//NONSGML v1.0//EN
BEGIN:VEVENT
UID:14587
DTSTART;VALUE=DATE:20210910
URL;VALUE=URI:ohschonhell.at/?page_id=32783
SUMMARY:Raveladen - Techno all night long
LOCATION:Kramladen
END:VEVENT
END:VCALENDAR


