BEGIN:VCALENDAR
VERSION:2.0
PRODID:-//hacksw/handcal//NONSGML v1.0//EN
BEGIN:VEVENT
UID:14607
DTSTART;VALUE=DATE:20210917
URL;VALUE=URI:ohschonhell.at/?page_id=32824
SUMMARY:MERKWÜRDIG | OPENAIR
LOCATION:PORTO POLLO
END:VEVENT
END:VCALENDAR


