BEGIN:VCALENDAR
VERSION:2.0
PRODID:-//hacksw/handcal//NONSGML v1.0//EN
BEGIN:VEVENT
UID:14616
DTSTART;VALUE=DATE:20211002
URL;VALUE=URI:ohschonhell.at/?page_id=32844
SUMMARY:Neue Wiener Härte | O.B.I. &amp\; DLV
LOCATION:GRELLE FORELLE
END:VEVENT
END:VCALENDAR


