BEGIN:VCALENDAR
VERSION:2.0
PRODID:-//hacksw/handcal//NONSGML v1.0//EN
BEGIN:VEVENT
UID:14617
DTSTART;VALUE=DATE:20211002
URL;VALUE=URI:ohschonhell.at/?page_id=32846
SUMMARY:Private Lane LAB w/ Ma.to
LOCATION:SASS
END:VEVENT
END:VCALENDAR


