BEGIN:VCALENDAR
VERSION:2.0
PRODID:-//hacksw/handcal//NONSGML v1.0//EN
BEGIN:VEVENT
UID:14642
DTSTART;VALUE=DATE:20211008
URL;VALUE=URI:ohschonhell.at/?page_id=32898
SUMMARY:Tek Producer Special
LOCATION:Club Change
END:VEVENT
END:VCALENDAR


