BEGIN:VCALENDAR
VERSION:2.0
PRODID:-//hacksw/handcal//NONSGML v1.0//EN
BEGIN:VEVENT
UID:14652
DTSTART;VALUE=DATE:20211010
URL;VALUE=URI:ohschonhell.at/?page_id=32919
SUMMARY:AFTERHOUR w/ MIKE HAMMER & SCHWARZLICHT
LOCATION:Black Market
END:VEVENT
END:VCALENDAR


