BEGIN:VCALENDAR
VERSION:2.0
PRODID:-//hacksw/handcal//NONSGML v1.0//EN
BEGIN:VEVENT
UID:14656
DTSTART;VALUE=DATE:20211017
URL;VALUE=URI:ohschonhell.at/?page_id=32927
SUMMARY:AFTERHOUR w/ MADWIN - extended set
LOCATION:Black Market
END:VEVENT
END:VCALENDAR


