BEGIN:VCALENDAR
VERSION:2.0
PRODID:-//hacksw/handcal//NONSGML v1.0//EN
BEGIN:VEVENT
UID:14659
DTSTART;VALUE=DATE:20211024
URL;VALUE=URI:ohschonhell.at/?page_id=32933
SUMMARY:AFTERHOUR w/ WIENER MISCHUNG
LOCATION:Black Market
END:VEVENT
END:VCALENDAR


