BEGIN:VCALENDAR
VERSION:2.0
PRODID:-//hacksw/handcal//NONSGML v1.0//EN
BEGIN:VEVENT
UID:1466
DTSTART;VALUE=DATE:20140621
URL;VALUE=URI:ohschonhell.at/?page_id=3970
SUMMARY:Stadtpark Boxircus | Round One
LOCATION:BOXIRCUS
END:VEVENT
END:VCALENDAR


