BEGIN:VCALENDAR
VERSION:2.0
PRODID:-//hacksw/handcal//NONSGML v1.0//EN
BEGIN:VEVENT
UID:1467
DTSTART;VALUE=DATE:20140614
URL;VALUE=URI:ohschonhell.at/?page_id=3971
SUMMARY:ENDSTATION DRAUSSEN m WIENER WELLE
LOCATION:ENDSTATION HALTESTELLE 1er
END:VEVENT
END:VCALENDAR


