BEGIN:VCALENDAR
VERSION:2.0
PRODID:-//hacksw/handcal//NONSGML v1.0//EN
BEGIN:VEVENT
UID:14684
DTSTART;VALUE=DATE:20211030
URL;VALUE=URI:ohschonhell.at/?page_id=32984
SUMMARY:AFTERHOUR w/ CED
LOCATION:Black Market
END:VEVENT
END:VCALENDAR


