BEGIN:VCALENDAR
VERSION:2.0
PRODID:-//hacksw/handcal//NONSGML v1.0//EN
BEGIN:VEVENT
UID:14686
DTSTART;VALUE=DATE:20211026
URL;VALUE=URI:ohschonhell.at/?page_id=32988
SUMMARY:FRÜHSCHOPPEN AM NATIONALFEIERTAG mit HOCHWEISS & DAVID PHOENIX
LOCATION:Black Market
END:VEVENT
END:VCALENDAR


