BEGIN:VCALENDAR
VERSION:2.0
PRODID:-//hacksw/handcal//NONSGML v1.0//EN
BEGIN:VEVENT
UID:14697
DTSTART;VALUE=DATE:20211014
URL;VALUE=URI:ohschonhell.at/?page_id=33010
SUMMARY:Der Donnerstag im Camera Club
LOCATION:CAMERA CLUB
END:VEVENT
END:VCALENDAR


