BEGIN:VCALENDAR
VERSION:2.0
PRODID:-//hacksw/handcal//NONSGML v1.0//EN
BEGIN:VEVENT
UID:14712
DTSTART;VALUE=DATE:20211104
URL;VALUE=URI:ohschonhell.at/?page_id=33040
SUMMARY:VIE.W Sessions w/ CRUZ (Bloop Rec.)
LOCATION:SASS
END:VEVENT
END:VCALENDAR


