BEGIN:VCALENDAR
VERSION:2.0
PRODID:-//hacksw/handcal//NONSGML v1.0//EN
BEGIN:VEVENT
UID:14713
DTSTART;VALUE=DATE:20211031
URL;VALUE=URI:ohschonhell.at/?page_id=33042
SUMMARY:Halloween Madness
LOCATION:Luftbad
END:VEVENT
END:VCALENDAR


