BEGIN:VCALENDAR
VERSION:2.0
PRODID:-//hacksw/handcal//NONSGML v1.0//EN
BEGIN:VEVENT
UID:1472
DTSTART;VALUE=DATE:20140614
URL;VALUE=URI:ohschonhell.at/?page_id=3976
SUMMARY:MODE TALKING - The Opening
LOCATION:VOLKSGARTEN
END:VEVENT
END:VCALENDAR


