BEGIN:VCALENDAR
VERSION:2.0
PRODID:-//hacksw/handcal//NONSGML v1.0//EN
BEGIN:VEVENT
UID:14731
DTSTART;VALUE=DATE:20211106
URL;VALUE=URI:ohschonhell.at/?page_id=33080
SUMMARY:JFF • hertzinger / 1019 CLUB SHOWS
LOCATION:Club 1019
END:VEVENT
END:VCALENDAR


