BEGIN:VCALENDAR
VERSION:2.0
PRODID:-//hacksw/handcal//NONSGML v1.0//EN
BEGIN:VEVENT
UID:1474
DTSTART;VALUE=DATE:20140608
URL;VALUE=URI:ohschonhell.at/?page_id=3978
SUMMARY:TIMEOUT special - 13 hours nonstop party -
LOCATION:VIENNA CITY BEACH CLUB
END:VEVENT
END:VCALENDAR


