BEGIN:VCALENDAR
VERSION:2.0
PRODID:-//hacksw/handcal//NONSGML v1.0//EN
BEGIN:VEVENT
UID:14767
DTSTART;VALUE=DATE:20211030
URL;VALUE=URI:ohschonhell.at/?page_id=33153
SUMMARY:NON FUNXION x PONYHOF
LOCATION:Der Ponyhof
END:VEVENT
END:VCALENDAR


