BEGIN:VCALENDAR
VERSION:2.0
PRODID:-//hacksw/handcal//NONSGML v1.0//EN
BEGIN:VEVENT
UID:14808
DTSTART;VALUE=DATE:20211114
URL;VALUE=URI:ohschonhell.at/?page_id=33236
SUMMARY:AFTERHOUR w/ WIENER MISCHUNG
LOCATION:Black Market
END:VEVENT
END:VCALENDAR


