BEGIN:VCALENDAR
VERSION:2.0
PRODID:-//hacksw/handcal//NONSGML v1.0//EN
BEGIN:VEVENT
UID:14815
DTSTART;VALUE=DATE:20211121
URL;VALUE=URI:ohschonhell.at/?page_id=33250
SUMMARY:AFTERHOUR w/ FABIAN HOFER b2b CED
LOCATION:Black Market
END:VEVENT
END:VCALENDAR


