BEGIN:VCALENDAR
VERSION:2.0
PRODID:-//hacksw/handcal//NONSGML v1.0//EN
BEGIN:VEVENT
UID:14823
DTSTART;VALUE=DATE:20211118
URL;VALUE=URI:ohschonhell.at/?page_id=33267
SUMMARY:Fortunea im Ponyhof
LOCATION:Der Ponyhof
END:VEVENT
END:VCALENDAR


