BEGIN:VCALENDAR
VERSION:2.0
PRODID:-//hacksw/handcal//NONSGML v1.0//EN
BEGIN:VEVENT
UID:14856
DTSTART;VALUE=DATE:20220205
URL;VALUE=URI:ohschonhell.at/?page_id=33335
SUMMARY:Drumworks @ Black Market (February 2022)
LOCATION:Black Market
END:VEVENT
END:VCALENDAR


