BEGIN:VCALENDAR
VERSION:2.0
PRODID:-//hacksw/handcal//NONSGML v1.0//EN
BEGIN:VEVENT
UID:14859
DTSTART;VALUE=DATE:20220304
URL;VALUE=URI:ohschonhell.at/?page_id=33344
SUMMARY:Brett No 8: Techno & Trance im Black Market
LOCATION:Black Market
END:VEVENT
END:VCALENDAR


