BEGIN:VCALENDAR
VERSION:2.0
PRODID:-//hacksw/handcal//NONSGML v1.0//EN
BEGIN:VEVENT
UID:14874
DTSTART;VALUE=DATE:20220312
URL;VALUE=URI:ohschonhell.at/?page_id=33374
SUMMARY:Hardtechno VS Tekno im Change-Club
LOCATION:Club Change
END:VEVENT
END:VCALENDAR


