BEGIN:VCALENDAR
VERSION:2.0
PRODID:-//hacksw/handcal//NONSGML v1.0//EN
BEGIN:VEVENT
UID:14894
DTSTART;VALUE=DATE:20220319
URL;VALUE=URI:ohschonhell.at/?page_id=33414
SUMMARY:AFTERHOURS IM MÄRZ
LOCATION:Black Market
END:VEVENT
END:VCALENDAR


