BEGIN:VCALENDAR
VERSION:2.0
PRODID:-//hacksw/handcal//NONSGML v1.0//EN
BEGIN:VEVENT
UID:14913
DTSTART;VALUE=DATE:20220326
URL;VALUE=URI:ohschonhell.at/?page_id=33452
SUMMARY:Acid Techno im Change-Club
LOCATION:Club Change
END:VEVENT
END:VCALENDAR


