BEGIN:VCALENDAR
VERSION:2.0
PRODID:-//hacksw/handcal//NONSGML v1.0//EN
BEGIN:VEVENT
UID:14945
DTSTART;VALUE=DATE:20220401
URL;VALUE=URI:ohschonhell.at/?page_id=33519
SUMMARY:Techno Night
LOCATION:Black Market
END:VEVENT
END:VCALENDAR


