BEGIN:VCALENDAR
VERSION:2.0
PRODID:-//hacksw/handcal//NONSGML v1.0//EN
BEGIN:VEVENT
UID:14962
DTSTART;VALUE=DATE:20220326
URL;VALUE=URI:ohschonhell.at/?page_id=33553
SUMMARY:Switch! feat. Subsonic\, Primate\, Skore
LOCATION:FLEX
END:VEVENT
END:VCALENDAR


