BEGIN:VCALENDAR
VERSION:2.0
PRODID:-//hacksw/handcal//NONSGML v1.0//EN
BEGIN:VEVENT
UID:14967
DTSTART;VALUE=DATE:20220402
URL;VALUE=URI:ohschonhell.at/?page_id=33561
SUMMARY:Joyce Muniz - all night long
LOCATION:SASS
END:VEVENT
END:VCALENDAR


