BEGIN:VCALENDAR
VERSION:2.0
PRODID:-//hacksw/handcal//NONSGML v1.0//EN
BEGIN:VEVENT
UID:14984
DTSTART;VALUE=DATE:20220402
URL;VALUE=URI:ohschonhell.at/?page_id=33589
SUMMARY:AFTERHOURS IM APRIL
LOCATION:Black Market
END:VEVENT
END:VCALENDAR


