BEGIN:VCALENDAR
VERSION:2.0
PRODID:-//hacksw/handcal//NONSGML v1.0//EN
BEGIN:VEVENT
UID:15002
DTSTART;VALUE=DATE:20220401
URL;VALUE=URI:ohschonhell.at/?page_id=33626
SUMMARY:Wiener Mischung /w Toni\, Alphasheep\, Constant.Change
LOCATION:DONAUTECHNO.COM
END:VEVENT
END:VCALENDAR


