BEGIN:VCALENDAR
VERSION:2.0
PRODID:-//hacksw/handcal//NONSGML v1.0//EN
BEGIN:VEVENT
UID:15026
DTSTART;VALUE=DATE:20220507
URL;VALUE=URI:ohschonhell.at/?page_id=33674
SUMMARY:AUSRITT w/ LÖWENZAHN & WIENER MISCHUNG
LOCATION:Der Ponyhof
END:VEVENT
END:VCALENDAR


