BEGIN:VCALENDAR
VERSION:2.0
PRODID:-//hacksw/handcal//NONSGML v1.0//EN
BEGIN:VEVENT
UID:15028
DTSTART;VALUE=DATE:20220407
URL;VALUE=URI:ohschonhell.at/?page_id=33678
SUMMARY:Donnerstag Nacht: Crazy Night Out
LOCATION:SASS
END:VEVENT
END:VCALENDAR


