BEGIN:VCALENDAR
VERSION:2.0
PRODID:-//hacksw/handcal//NONSGML v1.0//EN
BEGIN:VEVENT
UID:15043
DTSTART;VALUE=DATE:20220416
URL;VALUE=URI:ohschonhell.at/?page_id=33709
SUMMARY:Private Lane RELEASE PARTY / PL001
LOCATION:SASS
END:VEVENT
END:VCALENDAR


