BEGIN:VCALENDAR
VERSION:2.0
PRODID:-//hacksw/handcal//NONSGML v1.0//EN
BEGIN:VEVENT
UID:15047
DTSTART;VALUE=DATE:20220418
URL;VALUE=URI:ohschonhell.at/?page_id=33717
SUMMARY:AFTERHOURS IM APRIL
LOCATION:Black Market
END:VEVENT
END:VCALENDAR


