BEGIN:VCALENDAR
VERSION:2.0
PRODID:-//hacksw/handcal//NONSGML v1.0//EN
BEGIN:VEVENT
UID:15048
DTSTART;VALUE=DATE:20220513
URL;VALUE=URI:ohschonhell.at/?page_id=33719
SUMMARY:SEHNSUCHT w/ Theo Meier - PART 1 @ OPERA CLUB
LOCATION:OPERA CLUB
END:VEVENT
END:VCALENDAR


