BEGIN:VCALENDAR
VERSION:2.0
PRODID:-//hacksw/handcal//NONSGML v1.0//EN
BEGIN:VEVENT
UID:15056
DTSTART;VALUE=DATE:20220422
URL;VALUE=URI:ohschonhell.at/?page_id=33735
SUMMARY:Hadone | DLV "Rufmord" Release Party
LOCATION:GRELLE FORELLE
END:VEVENT
END:VCALENDAR


