BEGIN:VCALENDAR
VERSION:2.0
PRODID:-//hacksw/handcal//NONSGML v1.0//EN
BEGIN:VEVENT
UID:1506
DTSTART;VALUE=DATE:20140704
URL;VALUE=URI:ohschonhell.at/?page_id=4028
SUMMARY:ISH Happens 4th of JULY SPECIAL  | Fr 04.07.2014 | CAMERA CLUB
LOCATION:CAMERA CLUB
END:VEVENT
END:VCALENDAR


