BEGIN:VCALENDAR
VERSION:2.0
PRODID:-//hacksw/handcal//NONSGML v1.0//EN
BEGIN:VEVENT
UID:15062
DTSTART;VALUE=DATE:20220503
URL;VALUE=URI:ohschonhell.at/?page_id=33747
SUMMARY:Season Opening mit Joyce Muniz
LOCATION:VOLKSGARTEN PAVILLON
END:VEVENT
END:VCALENDAR


