BEGIN:VCALENDAR
VERSION:2.0
PRODID:-//hacksw/handcal//NONSGML v1.0//EN
BEGIN:VEVENT
UID:15065
DTSTART;VALUE=DATE:20220430
URL;VALUE=URI:ohschonhell.at/?page_id=33756
SUMMARY:Black Market Residents
LOCATION:Black Market
END:VEVENT
END:VCALENDAR


