BEGIN:VCALENDAR
VERSION:2.0
PRODID:-//hacksw/handcal//NONSGML v1.0//EN
BEGIN:VEVENT
UID:15092
DTSTART;VALUE=DATE:20220421
URL;VALUE=URI:ohschonhell.at/?page_id=33810
SUMMARY:IRGENDWAS MIT TECHNO | 21/04/22 | U4 Vienna
LOCATION:U4
END:VEVENT
END:VCALENDAR


