BEGIN:VCALENDAR
VERSION:2.0
PRODID:-//hacksw/handcal//NONSGML v1.0//EN
BEGIN:VEVENT
UID:1510
DTSTART;VALUE=DATE:20140627
URL;VALUE=URI:ohschonhell.at/?page_id=4032
SUMMARY:Unten Nackt und Oben Ohne
LOCATION:OBEN OHNE ÜDDW
END:VEVENT
END:VCALENDAR


