BEGIN:VCALENDAR
VERSION:2.0
PRODID:-//hacksw/handcal//NONSGML v1.0//EN
BEGIN:VEVENT
UID:15111
DTSTART;VALUE=DATE:20220505
URL;VALUE=URI:ohschonhell.at/?page_id=33851
SUMMARY:Techno & Love @ Kramladen
LOCATION:Kramladen
END:VEVENT
END:VCALENDAR


