BEGIN:VCALENDAR
VERSION:2.0
PRODID:-//hacksw/handcal//NONSGML v1.0//EN
BEGIN:VEVENT
UID:15122
DTSTART;VALUE=DATE:20220507
URL;VALUE=URI:ohschonhell.at/?page_id=33873
SUMMARY:Change-Club Raggatek mit Pitch Madattak
LOCATION:Club Change
END:VEVENT
END:VCALENDAR


