BEGIN:VCALENDAR
VERSION:2.0
PRODID:-//hacksw/handcal//NONSGML v1.0//EN
BEGIN:VEVENT
UID:1513
DTSTART;VALUE=DATE:20140712
URL;VALUE=URI:ohschonhell.at/?page_id=4035
SUMMARY:Samstag! Mobilee Rooftop Session Vienna
LOCATION:TECH GATE VIENNA
END:VEVENT
END:VCALENDAR


