BEGIN:VCALENDAR
VERSION:2.0
PRODID:-//hacksw/handcal//NONSGML v1.0//EN
BEGIN:VEVENT
UID:15170
DTSTART;VALUE=DATE:20220521
URL;VALUE=URI:ohschonhell.at/?page_id=33974
SUMMARY:Merkwürdig w/ Nate S.U
LOCATION:SASS
END:VEVENT
END:VCALENDAR


