BEGIN:VCALENDAR
VERSION:2.0
PRODID:-//hacksw/handcal//NONSGML v1.0//EN
BEGIN:VEVENT
UID:15182
DTSTART;VALUE=DATE:20220527
URL;VALUE=URI:ohschonhell.at/?page_id=33998
SUMMARY:Techno Komet presents UMEK & ANNA ULLRICH
LOCATION:OTTAKRINGER BRAUEREI
END:VEVENT
END:VCALENDAR


