BEGIN:VCALENDAR
VERSION:2.0
PRODID:-//hacksw/handcal//NONSGML v1.0//EN
BEGIN:VEVENT
UID:15227
DTSTART;VALUE=DATE:20220513
URL;VALUE=URI:ohschonhell.at/?page_id=34090
SUMMARY:Schabernack - Kapitel 3
LOCATION:Der Ponyhof
END:VEVENT
END:VCALENDAR


